BEGIN:VCALENDAR
PRODID:-//eluceo/ical//2.0/EN
VERSION:2.0
CALSCALE:GREGORIAN
BEGIN:VEVENT
UID:27f60812cc30cebdbbdfb33067933a93
DTSTAMP:20260422T230542Z
SUMMARY:Lunchmöte med allasång och avslutning för verksamhetsåret 2024/
 2025
DESCRIPTION:Talare: Fred och Gunnel Sjöberg sjunger några sommarsånger o
 ch leder allsång.
URL:https://orebro-sydvastra.rotary2335.se/sv/agenda/show/212295
DTSTART;TZID=Europe/Zurich:20250613T120000
DTEND;TZID=Europe/Zurich:20250613T130000
LOCATION:Margareta Festvåning\, Drottningg 19\, 702 30 Örebro\, Sverige
CATEGORIES:Rotary
END:VEVENT
BEGIN:VTIMEZONE
TZID:Europe/Zurich
BEGIN:DAYLIGHT
DTSTART:20250613T120000
TZNAME:CEST
TZOFFSETTO:+0200
TZOFFSETFROM:+0200
END:DAYLIGHT
END:VTIMEZONE
END:VCALENDAR
